BEGIN:VCALENDAR
VERSION:2.0
PRODID:-//Squarespace Inc/Squarespace 6//v6//EN
BEGIN:VEVENT
UID:56d7b2abb6aa604e5de16753@squarespace.com
DTSTAMP:20160304T041239Z
DTSTART:20160303T040000Z
DTEND:20160326T050000Z
SUMMARY:GOOD FRIDAY VIGIL
END:VEVENT
END:VCALENDAR
