BEGIN:VCALENDAR
VERSION:2.0
PRODID:-//Squarespace Inc/Squarespace 6//v6//EN
BEGIN:VEVENT
UID:550a2de9e4b092c0b0a0d8f8@squarespace.com
DTSTAMP:20150319T032147Z
DTSTART:20150330T060000Z
DTEND:20150401T073000Z
SUMMARY:MASS OF THE OILS
END:VEVENT
END:VCALENDAR
