BEGIN:VCALENDAR
VERSION:2.0
PRODID:-//Squarespace Inc/Squarespace 6//v6//EN
BEGIN:VEVENT
UID:566a01004bf1183f462acea8@squarespace.com
DTSTAMP:20151210T230831Z
DTSTART:20151210T230000Z
DTEND:20151211T000000Z
SUMMARY:ORDINATION TO PRIESTHOOD
END:VEVENT
END:VCALENDAR
