BEGIN:VCALENDAR
VERSION:2.0
PRODID:-//Squarespace Inc/Squarespace 6//v6//EN
BEGIN:VEVENT
UID:53cc83abe4b0207d2959635e@squarespace.com
DTSTAMP:20140721T032752Z
DTSTART:20141025T023000Z
DTEND:20141026T033000Z
SUMMARY:  150 YEARS OF THE CATHOLIC CHURCH IN SOUTHLAND
END:VEVENT
END:VCALENDAR
