BEGIN:VCALENDAR
VERSION:2.0
PRODID:-//Squarespace Inc/Squarespace 6//v6//EN
BEGIN:VEVENT
UID:529e6c80e4b00dcbabfd2dcf@squarespace.com
DTSTAMP:20131204T003445Z
DTSTART:20140404T040000Z
DTEND:20140510T040000Z
SUMMARY:Catholic Social Teaching Today
END:VEVENT
END:VCALENDAR
