BEGIN:VCALENDAR
VERSION:2.0
PRODID:-//Squarespace Inc/Squarespace 6//v6//EN
BEGIN:VEVENT
UID:5317c8ffe4b05fcac6a88b96@squarespace.com
DTSTAMP:20140306T010332Z
DTSTART:20140306T013000Z
DTEND:20140306T023000Z
SUMMARY:Chrism Masses
END:VEVENT
END:VCALENDAR
