BEGIN:VCALENDAR
VERSION:2.0
PRODID:-//Squarespace Inc/Squarespace 6//v6//EN
BEGIN:VEVENT
UID:52eac846e4b080395c163a60@squarespace.com
DTSTAMP:20140214T033339Z
DTSTART:20140226T203000Z
DTEND:20140227T020000Z
SUMMARY:Primary Schools' Forum\, Holy Cross Centre Mosgiel
END:VEVENT
END:VCALENDAR
