BEGIN:VCALENDAR
VERSION:2.0
PRODID:-//Squarespace Inc/Squarespace 6//v6//EN
BEGIN:VEVENT
UID:52fd8c58e4b01d4da24c433f@squarespace.com
DTSTAMP:20140214T033954Z
DTSTART:20140305T203000Z
DTEND:20140306T023000Z
SUMMARY:Secondary Schools' Forum\, Holy Cross Centre\, Mosgiel
END:VEVENT
END:VCALENDAR
