BEGIN:VCALENDAR
VERSION:2.0
PRODID:-//Squarespace Inc/Squarespace 6//v6//EN
BEGIN:VEVENT
UID:529e72d0e4b05630c32a32c3@squarespace.com
DTSTAMP:20131204T003506Z
DTSTART:20140822T050000Z
DTEND:20140830T040000Z
SUMMARY:HIstory of the Sacraments
END:VEVENT
END:VCALENDAR
