BEGIN:VCALENDAR
VERSION:2.0
PRODID:-//Squarespace Inc/Squarespace 6//v6//EN
BEGIN:VEVENT
UID:56d7b1041d07c0ad6ddc17f0@squarespace.com
DTSTAMP:20160304T041456Z
DTSTART:20160302T040000Z
DTEND:20160323T050000Z
SUMMARY:MASS OF THE OILS
END:VEVENT
END:VCALENDAR
