BEGIN:VCALENDAR
VERSION:2.0
PRODID:-//Squarespace Inc/Squarespace 6//v6//EN
BEGIN:VEVENT
UID:55c926a9e4b05006bdc77e38@squarespace.com
DTSTAMP:20150811T003020Z
DTSTART:20150914T230000Z
DTEND:20150918T010000Z
SUMMARY:Living Faith Lecture Series
END:VEVENT
END:VCALENDAR
