BEGIN:VCALENDAR
VERSION:2.0
PRODID:-//Squarespace Inc/Squarespace 6//v6//EN
BEGIN:VEVENT
UID:56203249e4b011a9a3a5bb8d@squarespace.com
DTSTAMP:20151015T231909Z
DTSTART:20151030T233000Z
DTEND:20151031T003000Z
SUMMARY:Diocesan Leadership Event
END:VEVENT
END:VCALENDAR
