BEGIN:VCALENDAR
VERSION:2.0
PRODID:-//Squarespace Inc/Squarespace 6//v6//EN
BEGIN:VEVENT
UID:529e75c7e4b02dbe8c63a5d2@squarespace.com
DTSTAMP:20131204T003429Z
DTSTART:20140905T050000Z
DTEND:20140920T050000Z
SUMMARY:Catholic Social Teaching II
END:VEVENT
END:VCALENDAR
