BEGIN:VCALENDAR
VERSION:2.0
PRODID:-//Squarespace Inc/Squarespace 6//v6//EN
BEGIN:VEVENT
UID:53cc870ae4b09390906247b2@squarespace.com
DTSTAMP:20140721T032838Z
DTSTART:20141024T023000Z
DTEND:20141026T033000Z
SUMMARY:KAVANAGH COLLEGE JUBILEE CELEBRATING 25 YEARS
END:VEVENT
END:VCALENDAR
