BEGIN:VCALENDAR
VERSION:2.0
PRODID:-//Squarespace Inc/Squarespace 6//v6//EN
BEGIN:VEVENT
UID:52fd8dd7e4b0d3e64dc2ce94@squarespace.com
DTSTAMP:20140214T034103Z
DTSTART:20140311T203000Z
DTEND:20140312T023000Z
SUMMARY:Secondary Teachers' Orientation Course\, Catholic Pastoral Centre\, 
 Dunedin
END:VEVENT
END:VCALENDAR
