BEGIN:VCALENDAR
VERSION:2.0
PRODID:-//Squarespace Inc/Squarespace 6//v6//EN
BEGIN:VEVENT
UID:52fd8bbfe4b0c3ca59bc61e0@squarespace.com
DTSTAMP:20140214T033648Z
DTSTART:20140227T203000Z
DTEND:20140228T023000Z
SUMMARY:Primary Schools' Orientation Course\, St Peter Chanel\, Green islan
 d
END:VEVENT
END:VCALENDAR
