BEGIN:VCALENDAR
VERSION:2.0
PRODID:-//Squarespace Inc/Squarespace 6//v6//EN
BEGIN:VEVENT
UID:529e614de4b0078ad7aa6d7a@squarespace.com
DTSTAMP:20131204T003455Z
DTSTART:20140516T000000Z
DTEND:20140607T010000Z
SUMMARY:SC101 Introduction to the Old Testament
END:VEVENT
END:VCALENDAR
